BEGIN:VCALENDAR
VERSION:2.0
PRODID:ics.py - http://git.io/lLljaA
BEGIN:VEVENT
DESCRIPTION:Hunter Merriman\, baritone\, and Jacob Lynn-Palevsky\, baritone\, will present a joint vocal recital at 7:30 p.m. Sunday\, May 8\, at Packard Hall\, with both vocalists accompanied by Daniel Brink\, piano. \n\nThe CC Department of Music suggests\, but does not require\, that attendees wear a KN95 or similar filtration mask. Visit CC’s Coronavirus Updates &amp\; Resources webpage for full information about CC’s Covid-19 policies.\n\nFor parking information\, call the Music office at 719-389-6545. Visit www.coloradocollege.edu/music to learn more about the CC Summer Music Department. This event is open to the general public.  https://www.coloradocollege.edu/newsevents/calendar/details.html?EventID=48976&amp\;booking=1SEQUENCE:0\n\nhttps://today.coloradocollege.edu/events/4477
DTEND:20220509T030000Z
LOCATION:Packard Performance Hall - 5 W. Cache La Poudre St.
DTSTART:20220509T013000Z
SUMMARY:Student Recital: Hunter Merriman\, baritone\, and Jacob Lynn-Palevsky\, baritone
UID:eaf6d22c-ca56-4694-b62e-64d4fbe03fd5
END:VEVENT
END:VCALENDAR