BEGIN:VCALENDAR
VERSION:2.0
PRODID:ics.py - http://git.io/lLljaA
BEGIN:VEVENT
DESCRIPTION:On Sunday\, May 15\, at 7:30 p.m.\, in Packard Hall\, William Broder\, baritone\, and Ai Ke Woods\, tenor\, present a joint vocal recital\, with both students accompanied by Daniel Brink\, piano.\n\nThe CC Department of Music suggests\, but does not require\, that attendees wear a KN95 or similar filtration mask. Visit CC’s Coronavirus Updates &amp\; Resources webpage for full information about CC’s Covid-19 policies.\n\nFor parking information\, call the Music office at 719-389-6545. Visit www.coloradocollege.edu/music to learn more about the CC Summer Music Department. This event is open to the general public.  https://www.coloradocollege.edu/newsevents/calendar/details.html?EventID=48978&amp\;booking=1SEQUENCE:0\n\nhttps://today.coloradocollege.edu/events/4479
DTEND:20220516T030000Z
LOCATION:Packard Performance Hall - 5 W. Cache La Poudre St.
DTSTART:20220516T013000Z
SUMMARY:Student Recital: William Broder\, baritone\, Ai Ke Woods\, tenor
UID:5a7b7bc7-3999-4e1d-b2e5-d02289fcaa6a
END:VEVENT
END:VCALENDAR