BEGIN:VCALENDAR
VERSION:2.0
PRODID:ics.py - http://git.io/lLljaA
BEGIN:VEVENT
DESCRIPTION:NATIONAL SERVICE FOR CITIZEN-ARTISTS.\nArtistYear is an AmeriCorps program for artists to dedicate themselves to a full-time year of service to address inequities in arts education across our nation.\n\nCome learn more about ArtistYear from a Denver Fellow\nFriday\, May 6\, 1:00pm\n<a href="https://coloradocollege.joinhandshake.com/edu/events/1035486">RSVP in Handshake</a> so we know to expect you\nArtistYear is dedicated to addressing inequities in arts education for K-12 students. To ensure that every low-income student in America has the opportunity to reap the social emotional and academic benefits associated with arts learning\, ArtistYear created a national service arts corps. \n\nAn ArtistYear AmeriCorps Fellow is dedicated to the highest level of artistic excellence\, possesses a deep commitment to service\, and believes in the artistic potential of every child. Fellows represent all artistic disciplines. They are actors\, animators\, art historians\, cellists\, ceramicists\, composers\, comics\, creative writers\, dancers\, filmmakers\, graphic designers\, guitarists\, illustrators\, jazz musicians\, photographers\, playwrights\, poets\, recording engineers\, screenwriters\, sculptors\, singers\, storytellers\, violinists\, and visual artists. \n\nCurrently accepting applications for in the following locations:\n\n\nThe Borough of Queens\, New York\nPhiladelphia\, Pennsylvania\nThe Sandhills - Moore County and Lee County\, North Carolina\nRoaring Fork Valley\, Colorado\nDenver\, Colorado\n\nLEARN MORE AT https://artistyear.org/\nApply at:  https://app.getacceptd.com/artistyear\n\nhttps://today.coloradocollege.edu/events/4486
DTEND:20220506T200000Z
LOCATION:Career Center Carriage House
DTSTART:20220506T190000Z
SUMMARY:Learn about Creative Education Options: ArtistYear is Hiring!
UID:1145fb60-78cd-4a95-a7fe-96b028a419b3
END:VEVENT
END:VCALENDAR