BEGIN:VCALENDAR
VERSION:2.0
PRODID:ics.py - http://git.io/lLljaA
BEGIN:VEVENT
DESCRIPTION:Welcome to the CC Family! \n\nThrive at CC is our orientation program designed to get you connected with the people\, culture\, and resources that will help you be successful at CC. \n\nAt the CCNEW Staff Seek-and-Find\, you'll get to meet other new staff\, existing employees\, engage in relationship-building activities\, and tour the campus. Participants should be prepared to walk up to one (1) mile and work collaboratively in small groups. If you are unable to participate in the walking portion and would still like to participate\, please reach out to CCPerformance@coloradocollege.edu to discuss options privately. \n\nDate: May 5\, 2022\n\nTime: 09:00-10:30am\n\nLocation: Meet at the El Pomar Sports Center in the main corridor. This event is not open to the general public.  https://www.coloradocollege.edu/newsevents/calendar/details.html?EventID=49008&amp\;booking=1SEQUENCE:0\n\nhttps://today.coloradocollege.edu/events/4490
DTEND:20220505T163000Z
LOCATION:El Pomar Great Hall - 44 W. Cache La Poudre St.
DTSTART:20220505T150000Z
SUMMARY:Staff Seek-and-Find
UID:35650a82-1d34-4a90-84d6-1c636de090cd
END:VEVENT
END:VCALENDAR