BEGIN:VCALENDAR
VERSION:2.0
PRODID:ics.py - http://git.io/lLljaA
BEGIN:VEVENT
DESCRIPTION:Join Robyn Haynie\, Head of Collections and Jonathan Dankenbring\, Exhibition Designer/Preparator Manager in our courtyard to learn about the care and preservation of the sculptures there. Our museum team will explain and demonstrate several different techniques - whether glass\, stone\, bronze\, or steel\, that each material requires. We'll also discuss upcoming restoration projects for both our Frank Mechau courtyard mural and Emanuel Martinez mural in the parking lot. No RSVP required\, please check in at the front desk. The event is open to all Members of the Fine Arts Center (which include CC students).\n\nhttps://today.coloradocollege.edu/events/4493
DTEND:20220507T190000Z
LOCATION:Fine Arts Center
DTSTART:20220507T180000Z
SUMMARY:FAC May Member Tour 
UID:20210a35-24c5-4c76-981c-7452efc87e18
END:VEVENT
END:VCALENDAR