BEGIN:VCALENDAR
VERSION:2.0
PRODID:ics.py - http://git.io/lLljaA
BEGIN:VEVENT
DESCRIPTION:<a href="https://www.cognitoforms.com/ColoradoCollege1/fyptoolboxdialogueworkshop">RSVP HERE.</a>\nFacilitated by the <a href="https://tdi.msu.edu/">Toolbox Dialogue Initiative</a>\n* Workshop designed for First Year Program (FYP) faculty or those interested in teaching in the FYP.\nIn this workshop\, facilitators from the Toolbox Dialogue Initiative (TDI) will lead faculty through a cross-disciplinary dialogue and co-creation activity. \nToolbox workshops begin with a brief preamble\, followed by participants filling out a survey-like instrument designed to identify the beliefs and values they have that are related to the nature of disciplines and disciplinary research and scholarship. After completing the instrument\, participants then engage in a facilitated dialogue session to discuss the issues raised by the prompts. During this session\, participants often discover differences and similarities of perspectives within their group. Participants are then asked to complete the Toolbox instrument again. \nAfter the dialogue\, the participants engage in a co-creation activity that builds on what was learned in the dialogue. Faculty teaching a CC100 or CC120 will be encouraged to develop lesson plans\, student assignments\, or convergence experiences that can be used to engage students in the goals of the First-Year Program.\n\nhttps://today.coloradocollege.edu/events/4505
DTEND:20220524T210000Z
LOCATION:Tim Fuller Event Space
DTSTART:20220524T160000Z
SUMMARY:Toolbox Dialogue Workshop
UID:b9e90aac-381f-4da8-9c55-5e649d7c3008
END:VEVENT
END:VCALENDAR