BEGIN:VCALENDAR
VERSION:2.0
PRODID:ics.py - http://git.io/lLljaA
BEGIN:VEVENT
DESCRIPTION:<a href="https://coloradocollege.qualtrics.com/jfe/form/SV_3OXP5MbjqH1YZTg"> RSVP HERE.</a>\nFacilitated by Lisa Munro\, Ph.D\, <a href="https://lisamunro.net/">lisamunro.net</a>\nThursday\, May 26th\, 10 - 11:30 a.m. MST\nWednesday\, June 22nd\, 1:30 - 4 p.m. MST\nWednesday\, July 13th\, 1:30 - 4 p.m. MST\nAll sessions via Zoom\nThis workshop series is designed for use with Wendy Belcher's Writing Your Journal Article in 12 Weeks. If you need a copy of this workbook\, please indicate that when you RSVP. Belcher's Workbook and this series of workshops are designed for revision of an existing piece of writing. This is not designed for creating a new article from scratch. Any type of research article is a good choice here: revisions of conference papers\, rejected articles\, discarded dissertation chapter drafts all can work. \nSession 1: Argumentation\, abstract writing\, and journal selection\nSession 2: Refining works cited\, crafting claims for significance\, and analyzing and presenting evidence\nSession 3: Evaluating and revising structure\, opening and concluding\, and editing and micro revision\nThis series builds from participation across all three sessions. Sessions will be recorded if you are unable to participate a particular day or time for the live session. However\, the series will be most effective for those able to commit time to work on an article revision during these weeks.\n\nhttps://today.coloradocollege.edu/events/4507
DTEND:20220526T173000Z
LOCATION:zoom
DTSTART:20220526T160000Z
SUMMARY:Kickstart Your Journal Article Series
UID:82bacf0f-c091-496c-bd10-a1be2ac97f6d
END:VEVENT
END:VCALENDAR