BEGIN:VCALENDAR
VERSION:2.0
PRODID:ics.py - http://git.io/lLljaA
BEGIN:VEVENT
DESCRIPTION:Join us for a night of art\, music and dance as we celebrate all things from the arts at CC! There will be a student DJ\, live performances\, student art\, a photo booth\, reception\, snacks and more. Come dressed in something formal or fun! If you are a student artist interested in showcasing your work at the party\, please contact thearts@coloradocollege.edu<a href="https://i.imgur.com/FX8Ke6d.jpg">https://i.imgur.com/FX8Ke6d.jpg</a>\n\nhttps://today.coloradocollege.edu/events/4510
DTEND:20220514T030000Z
LOCATION:Cornerstone Main Space
DTSTART:20220514T020000Z
SUMMARY:Arts Party!
UID:442ca127-73d1-4e9d-a5ef-651e3383ea8b
END:VEVENT
END:VCALENDAR