BEGIN:VCALENDAR
VERSION:2.0
PRODID:ics.py - http://git.io/lLljaA
BEGIN:VEVENT
DESCRIPTION:\nFood\, music and prizes! Join the Office of Sustainability for the Colorado College Bike to Work Day\, Friday\, May 6\, 2022. Ride your bike or borrow one from Colorado College. Food and raffle will run from 7:30 am - 9:00 am outside of Worner Campus Center. \n\nTune your bike\, rent a bike from CC\, and plan your route during one of our pre-event clinics. Clinics will take place at the Outdoor Education Center April 27th\, May 3nd and May 5th\, 4-6 pm.  \n\nRegister to rent a bike: \n<a href="https://apps.ideal-logic.com/ccviceprovostoffice?key=29L66-D685_K9KH-5PTF_3e60590b0022">https://apps.ideal-logic.com/ccviceprovostoffice?key=29L66-D685_K9KH-5PTF_3e60590b0022</a>\nPlan your route to work using this <a href="https://ccgisonline.maps.arcgis.com/apps/instant/interactivelegend/index.html?appid=e8b076e323564c67831980be17cb9078">GIS web application!</a>  \n\nhttps://today.coloradocollege.edu/events/4511
DTEND:20220506T170000Z
LOCATION:Worner Quad
DTSTART:20220506T133000Z
SUMMARY:Colorado College Employee Bike to Work Day
UID:62ecf9b1-ac8e-4a23-8bd2-11fc0c9a7194
END:VEVENT
END:VCALENDAR