BEGIN:VCALENDAR
VERSION:2.0
PRODID:ics.py - http://git.io/lLljaA
BEGIN:VEVENT
DESCRIPTION:\nThe CC Rocky Mountain Tops student bluegrass ensemble at Colorado College will perform Thursday\, May 5\, beginning at 7:30 p.m. in Packard Hall.\n \nAdmission is free and open to the public.\n \nThe CC Department of Music suggests\, but does not require\, that attendees wear a KN95 or similar filtration mask. Visit CC’s <a href="https://www.coloradocollege.edu/other/coronavirus/index.html">Coronavirus Updates &amp\; Resources</a> webpage for full information about CC’s Covid-19 policies.\n \nFor parking information\, call the Music office at 719-389-6545. Visit <a href="http://www.coloradocollege.edu/music">www.coloradocollege.edu/music</a> to learn more about the CC Music Department.\n\nhttps://today.coloradocollege.edu/events/4513
DTEND:20220506T030000Z
LOCATION:Packard Performance Hall
DTSTART:20220506T013000Z
SUMMARY:Bluegrass Ensemble Concert
UID:ce1e88aa-b68e-40d1-9b46-e5b742b22c2e
END:VEVENT
END:VCALENDAR