BEGIN:VCALENDAR
VERSION:2.0
PRODID:ics.py - http://git.io/lLljaA
BEGIN:VEVENT
DESCRIPTION:\nThe Veronika String Quartet concludes its 2021-2022 season — “Muse\, She\, the Empowering” — on Saturday\, May 7 in Packard Hall. The program “Our Heritage” begins at 7:30 p.m.\n \nThis season\, the Veronika String Quartet presented masterpieces written by\, dedicated to\, and inspired by women at each concert. “Our Heritage” features String Quartet No. 2 in D Major by Alexander Borodin\, String Quartet No. 10 “Frozen Dreams” by Lera Auerbach\, and String Quartet No. 9 in E-flat Major\, Op. 117 by Dmitri Shostakovich.\n \nTickets are $25 for adults\, $20 for military members (with ID)\, $10 for non-CC students (with ID). All current Colorado College students\, faculty and staff receive free admission to the concert with their Gold Card.\n \nThe CC Department of Music suggests\, but does not require\, that attendees wear a KN95 or similar filtration mask. Visit CC’s <a href="https://www.coloradocollege.edu/other/coronavirus/index.html">Coronavirus Updates &amp\; Resources</a> webpage for full information about CC’s Covid-19 policies.\n\nhttps://today.coloradocollege.edu/events/4514
DTEND:20220508T030000Z
LOCATION:Packard Performance Hall
DTSTART:20220508T013000Z
SUMMARY:Veronika String Quartet Season Finale
UID:42059293-0fda-4280-b392-1a713a2e67f2
END:VEVENT
END:VCALENDAR