BEGIN:VCALENDAR
VERSION:2.0
PRODID:ics.py - http://git.io/lLljaA
BEGIN:VEVENT
DESCRIPTION:\nThe Colorado College Collegium Musicum ensemble will perform its spring semester concert at 3 p.m. Sunday\, May 8 in Packard Hall.\n \nAdmission is free and open to the public. The group will present a program featuring the “Musical Highs and Lows of Medieval and Renaissance Europe\,” under the direction of Nancy Ekberg\, with special guest Jeremy Van Hoy.\n \nCollegium Musicum is Colorado College's “old music” ensemble\, focusing on classical and dance music from the Renaissance and later. Collegium performs on instruments contemporary to the eras being studied\, giving students the opportunity to learn recorders\, frame drums\, viols and more. The group performs many of its own arrangements\, and students play a role in the process of re-creating music that\, despite its great age\, is not forgotten. \n \nThe CC Department of Music suggests\, but does not require\, that attendees wear a KN95 or similar filtration mask. Visit CC’s <a href="https://www.coloradocollege.edu/other/coronavirus/index.html">Coronavirus Updates &amp\; Resources</a> webpage for full information about CC’s Covid-19 policies.\n \nFor parking information\, call the Music office at 719-389-6545. Visit <a href="http://www.coloradocollege.edu/music">www.coloradocollege.edu/music</a> to learn more about the CC Music Department.\n\nhttps://today.coloradocollege.edu/events/4515
DTEND:20220508T223000Z
LOCATION:Packard Performance Hall
DTSTART:20220508T210000Z
SUMMARY:Collegium Musicum Concert
UID:f5902581-bb42-4acc-a835-4991094101e0
END:VEVENT
END:VCALENDAR