BEGIN:VCALENDAR
VERSION:2.0
PRODID:ics.py - http://git.io/lLljaA
BEGIN:VEVENT
DESCRIPTION:Celebrate The Butler Center’s 6th Annual Awards Banquet on Sunday\, May 15 from 5:00 PM – 8:00 PM at the Bemis Hall. Performances by Colorado College community members as well as a dance party will follow the event programming. <a href="https://forms.office.com/Pages/ResponsePage.aspx?id=PLHHz5YSh0OzCF3gj9E8mZkINEMct5FAtpJcSz-DriZUMFZTUlVIV0hDTFhXSThNTzVMSllOVE8zVS4u">RSVP</a> by Sunday\, May 9. If you are interested in possibly being a performer\, please contact Katrina Beltz at <a href="mailto:kbeltz@coloradocollege.edu">kbeltz@coloradocollege.edu</a> by Friday\, May 6 at 11:59 PM.\n\n\n\nhttps://today.coloradocollege.edu/events/4516
DTEND:20220516T010000Z
LOCATION:Bemis Great Hall
DTSTART:20220515T230000Z
SUMMARY:The Butler Center 6th Annual Awards Banquet
UID:c085d5bf-d05f-4047-8eb8-4603ac68807c
END:VEVENT
END:VCALENDAR