BEGIN:VCALENDAR
VERSION:2.0
PRODID:ics.py - http://git.io/lLljaA
BEGIN:VEVENT
DESCRIPTION:John Quincy Adams Society will be meeting this coming Thursday\, May 5th\, at 3:30 PM in Room 238 (1991 Classroom)\, Tutt Library. We will discuss the recent foreign policy developments with regard to the Russian invasion of Ukraine\, particularly the expansion of NATO. We also have some cool JQA merch\, including stickers and flashcards\, for all attendees! We hope to see you there!\n\nhttps://today.coloradocollege.edu/events/4528
DTEND:20220505T223000Z
LOCATION:Tutt Library Room 238
DTSTART:20220505T213000Z
SUMMARY:JQAS Meeting - Thursday 3:30 @Library
UID:c3721172-4ede-446d-b586-ec4e50bdbe28
END:VEVENT
END:VCALENDAR