BEGIN:VCALENDAR
VERSION:2.0
PRODID:ics.py - http://git.io/lLljaA
BEGIN:VEVENT
DESCRIPTION:Looking to de-clutter your room before move out? The CC Exchange is currently accepting clothing\, books\, and other donations during our open hours! Stop by on Thursdays (4/5 and 4/12) and next Monday (4/9) from 2-4 pm to donate or take any items. There is no purchasing invovled - it is all free. Please contact <a href="mailto:sustainability@coloradocollege.ed">sustainability@coloradocollege.edu</a> for any questions and see our Office of Sustainability website for the accepted donations list.\n\nhttps://today.coloradocollege.edu/events/4531
DTEND:20220505T220000Z
LOCATION:Worner Basement - in old mail room's location
DTSTART:20220505T200000Z
SUMMARY:CC EXCHANGE OPEN
UID:6c3f33a5-2c6b-4abb-8fa0-70c905861e0d
END:VEVENT
END:VCALENDAR