BEGIN:VCALENDAR
VERSION:2.0
PRODID:ics.py - http://git.io/lLljaA
BEGIN:VEVENT
DESCRIPTION:Looking to de-clutter your room before move out? The CC Exchange is currently accepting clothing\, books\, and room decor donations during our open hours! Stop by on Thursday (4/12) and Monday (4/9) from 2-4 pm. Students are encourage to donate and/or take any items. There is no purchasing invovled - it is all free! Please contact <a href="mailto:sustainability@coloradocollege.ed">sustainability@coloradocollege.edu</a> for any questions and see our Office of Sustainability website for the accepted donations list.\n\nhttps://today.coloradocollege.edu/events/4532
DTEND:20220509T220000Z
LOCATION:Worner Basement- Old Mail Room's Location
DTSTART:20220509T200000Z
SUMMARY:CC EXCHANGE POP-UP EVENT
UID:923426d8-aeb3-4916-ab09-8d27748c218d
END:VEVENT
END:VCALENDAR