BEGIN:VCALENDAR
VERSION:2.0
PRODID:ics.py - http://git.io/lLljaA
BEGIN:VEVENT
DESCRIPTION:Come watch performances by CC/UCCS figure skating teams as we wrap up our season! Event begins at 4pm and performances begin at 4:15 at Ed Robson Arena. \n\nJoin us afterwards for a public skate (5-6p)! \n\nhttps://today.coloradocollege.edu/events/4534
DTEND:20220508T000000Z
LOCATION:Ed Robson Arena
DTSTART:20220507T220000Z
SUMMARY:CC/UCCS Figure Skating Exhibition 
UID:e0291e3f-9622-4ae5-b56e-6580cb7ef66e
END:VEVENT
END:VCALENDAR