BEGIN:VCALENDAR
VERSION:2.0
PRODID:ics.py - http://git.io/lLljaA
BEGIN:VEVENT
DESCRIPTION:\nCome down to Sacred Grounds Tea House\, on the lower-level of Shove Chapel\, 9pm-12:30am Sunday-Tuesday of 4th week to enjoy a cozy hang out and study space and free fair-trade\, organic tea! Entrance on the side of Shove Chapel facing South Hall.\n\n\nhttps://today.coloradocollege.edu/events/4536
DTEND:20220507T063000Z
LOCATION:Sacred Grounds
DTSTART:20220507T030000Z
SUMMARY:Drink tea and be cozy at Sacred Grounds Tea House
UID:cd87a563-e132-4a9d-b278-47d67c8cfdef
END:VEVENT
END:VCALENDAR