BEGIN:VCALENDAR
VERSION:2.0
PRODID:ics.py - http://git.io/lLljaA
BEGIN:VEVENT
DESCRIPTION:Join the Math/CS department for our blockly tradition of gathering to play some board and card games! Enjoy good company\, and receive some light snacks to go!\n\n\n\nhttps://today.coloradocollege.edu/events/4538
DTEND:20220504T230000Z
LOCATION:Tutt Science Center Room 221
DTSTART:20220504T220000Z
SUMMARY:Math/Computer Science Department Games and Greetings
UID:52fd23c8-667a-4d2f-ab37-f96b335efd77
END:VEVENT
END:VCALENDAR