BEGIN:VCALENDAR
VERSION:2.0
PRODID:ics.py - http://git.io/lLljaA
BEGIN:VEVENT
DESCRIPTION:\nCome down to Sacred Grounds Tea House\, on the lower-level of Shove Chapel\, 9pm-12:30am Sunday-Tuesday of 4th week to enjoy a cozy study space and free fair-trade\, organic tea! Entrance on the side of Shove Chapel facing South Hall.\n\n\nhttps://today.coloradocollege.edu/events/4542
DTEND:20220518T063000Z
LOCATION:Sacred Grounds
DTSTART:20220518T030000Z
SUMMARY:Drink tea\, study\, and be cozy at Sacred Grounds Tea House
UID:33a0e919-7c88-41d1-a2c8-5e375352a79f
END:VEVENT
END:VCALENDAR