BEGIN:VCALENDAR
VERSION:2.0
PRODID:ics.py - http://git.io/lLljaA
BEGIN:VEVENT
DESCRIPTION:Mark your calendars! The CC Faculty Club will return to Stewart House on Friday\, May 27th for the traditional Spring Fling Party.  All Faculty\, Retirees\, Administrators and their spouses are welcome to enjoy tasty morsels\, luscious libations\, heavy hors d'oeuvres\, delectable desserts and wonderful conversations.  Come and greet friends and colleagues from 5-7pm.  Contact Kathy Lindeman with any questions: klindeman@coloradocollege.edu\n\nhttps://today.coloradocollege.edu/events/4543
DTEND:20220528T010000Z
LOCATION:Stewart House
DTSTART:20220527T230000Z
SUMMARY:Faculty Club is Back!  Spring Fling at Stewart House May 27th
UID:a834c377-5c0e-4d97-a6b9-702edce996c7
END:VEVENT
END:VCALENDAR