BEGIN:VCALENDAR
VERSION:2.0
PRODID:ics.py - http://git.io/lLljaA
BEGIN:VEVENT
DESCRIPTION:May 6\, 1-3:30 p.m.\, Worner Quad. Attendance is limited\; register for a spot <a href="https://nam04.safelinks.protection.outlook.com/?url=https%3A%2F%2Ft.e2ma.net%2Fclick%2Fzojh9d%2Fvhvynbi%2F37025i&amp\;data=05%7C01%7C%7Ce9a066a9925f4620df0908da2d117f6f%7Ccfc7b13c12964387b3085de08fd13c99%7C0%7C0%7C637871850426952133%7CUnknown%7CTWFpbGZsb3d8eyJWIjoiMC4wLjAwMDAiLCJQIjoiV2luMzIiLCJBTiI6Ik1haWwiLCJXVCI6Mn0%3D%7C3000%7C%7C%7C&amp\;sdata=XHxfvjUTJoUnUzHwr%2FHon1J%2BenmTJpIRKYW1zCKZSdk%3D&amp\;reserved=0" title="Original URL: https://t.e2ma.net/click/zojh9d/vhvynbi/37025i. Click or tap if you trust this link.">here</a>!\n\nOn May 6\, 1-3:30 p.m. on Worner Quad\, the Office of Sustainability will be hosting CC's second Environmental Action Summit with an emphasis on environmental justice. The purpose of this event is to engage both community members and students in a meaningful discussion about environmental/climate action and sustainability\, as well as provide opportunities for everyone to get further involved.\n\n\nVarious organizations\, both on-campus and off-campus will have booths with relevant information and activities to share\, including our featured speaker: Pueblo-based activist and community organizer Jamison (Jamie) Valdez. Valdez currently works with Mothers Out Front as a climate justice organizer\, and has previously done organizing work within the racial and economic justice movements as well. The floor will then open for discussion among students and community members around how we can\, as a community\, better commit to lasting support and action. With local food trucks and music to help us celebrate the importance of coming together\, the OOS hopes you can join!\n\nhttps://today.coloradocollege.edu/events/4547
DTEND:20220506T213000Z
LOCATION:Worner Quad
DTSTART:20220506T190000Z
SUMMARY:Environmental Action Summit: Environmental Justice
UID:0b94086c-6af8-43d3-8c0f-76fbd238c906
END:VEVENT
END:VCALENDAR