BEGIN:VCALENDAR
VERSION:2.0
PRODID:ics.py - http://git.io/lLljaA
BEGIN:VEVENT
DESCRIPTION:Join the Office of Sustainability <a href="https://nam04.safelinks.protection.outlook.com/?url=https%3A%2F%2Ft.e2ma.net%2Fclick%2Fzojh9d%2Fvhvynbi%2Fj0125i&amp\;data=05%7C01%7C%7Ce9a066a9925f4620df0908da2d117f6f%7Ccfc7b13c12964387b3085de08fd13c99%7C0%7C0%7C637871850426952133%7CUnknown%7CTWFpbGZsb3d8eyJWIjoiMC4wLjAwMDAiLCJQIjoiV2luMzIiLCJBTiI6Ik1haWwiLCJXVCI6Mn0%3D%7C3000%7C%7C%7C&amp\;sdata=GJeAISQ%2FW8DvudpedZ7BLzSWjqrcjQ1zUC7k0GXUs6A%3D&amp\;reserved=0" title="Original URL: https://t.e2ma.net/click/zojh9d/vhvynbi/j0125i. Click or tap if you trust this link.">Transportation Team</a> to celebrate sustainable commutes. Following your bike ride to work on Friday\, May 6\, join us for music\, food\, and prizes on Worner Quad from 7:30-9 a.m. \n\nNeed support in preparing? Borrow a bike\, tune your own\, or plan your route to campus during our last pre-event clinic: May 5\, 4-6 p.m. at the Outdoor Education Center\, 931 N. Nevada Ave. Questions? Contact sustainability@coloradocollege.edu.\n\nhttps://today.coloradocollege.edu/events/4548
DTEND:20220506T150000Z
LOCATION:Worner Quad
DTSTART:20220506T133000Z
SUMMARY:Bike to Work Day
UID:d0b21958-b1d2-4f64-9c11-890562462172
END:VEVENT
END:VCALENDAR