BEGIN:VCALENDAR
VERSION:2.0
PRODID:ics.py - http://git.io/lLljaA
BEGIN:VEVENT
DESCRIPTION:Did you have an interview with CC? Did you ever attend a college fair during your senior year? Did you participate in a major city CC meet up? All these things would not have been possible without our alumni volunteers. Join us on May 13 to learn more about the Office of Admission's Alumni Volunteer Program (AVP)! Be a part of engaging the Class of 2027 through this low-committment program.\n\nWhere: Worner Center Room 213\nWhen: Friday\, May 13 12:30-1:00 pm\n\nFree lunch from Pita Pit will be provide and all attendees will be entered in a raffle for a $25 Amazon gift card.\n\nRSVP <a href="https://forms.office.com/Pages/ResponsePage.aspx?id=PLHHz5YSh0OzCF3gj9E8mdB2rv3r65RClVgDtSlWf7VUNlE1NkRGU1NVMUJSQzNWVlJOUjgyRjJHVC4u">here.</a>\n\nhttps://today.coloradocollege.edu/events/4551
DTEND:20220513T190000Z
LOCATION:Worner 213
DTSTART:20220513T183000Z
SUMMARY:For Seniors: Alumni Volunteer Info Session (free lunch)
UID:ecffd852-ab29-49e5-a1c9-e78161f8dd67
END:VEVENT
END:VCALENDAR