BEGIN:VCALENDAR
VERSION:2.0
PRODID:ics.py - http://git.io/lLljaA
BEGIN:VEVENT
DESCRIPTION:Join the Department of Sociology to celebrate our senior majors on Capstone Presentation Day this Friday! There will be four sessions of presentations: Athletics and Education (Palmer 123\, 10:30 am)\, Music\, Culture and Community (Palmer 123\, 12:45 pm)\, Colorado College\, Policy\, and Environment (Palmer 123\, 2:00 pm)\, and The Social Power of Storytelling: Film Screening (Gates Common Room\, 3:20 pm).\n\nhttps://today.coloradocollege.edu/events/4552
DTEND:20220506T214500Z
LOCATION:Palmer Hall
DTSTART:20220506T164500Z
SUMMARY:Sociology Senior Capstone Presentation Day
UID:cdd9c2c0-9eb1-4c1f-980b-fcab3cd78677
END:VEVENT
END:VCALENDAR