BEGIN:VCALENDAR
VERSION:2.0
PRODID:ics.py - http://git.io/lLljaA
BEGIN:VEVENT
DESCRIPTION:Colorado College Kappa Alpha Theta is hosting our annual community wide kickball tournament THIS SATURDAY\, May 7th at 10:30 a.m. on Yampa Field. The registration fee is $8 per player (which includes lunch) and ALL procceeds go to CASA. Court Appointed Special Advocates (CASA) supports children in foster care and children who have been abused and/or neglected in the Pikes Peak reigon. Help us raise money for CASA and participate in a fun competition! All information is in the packet which can be accessed electronically from the links below. \n\nSign up by May 5th at 6 p.m.\n<a href="https://docs.google.com/document/d/13jDfb5BBBNmGoiFiLQb4yBOjqFKzIhkE/edit">Click here for information!</a>\n\n<a href="https://docs.google.com/forms/d/e/1FAIpQLSdl3P0PAJiL88tuUNFh5wBBpSSpuuZ7ng7097MJdNeX9Zw7ng/viewform">Click here to sign up!</a>\n\n\nhttps://today.coloradocollege.edu/events/4554
DTEND:20220505T203000Z
LOCATION:Donald Autrey Field
DTSTART:20220505T163000Z
SUMMARY:Kicks for CASA! 
UID:8c324388-3868-4435-82f2-2e68df63c3b1
END:VEVENT
END:VCALENDAR