BEGIN:VCALENDAR
VERSION:2.0
PRODID:ics.py - http://git.io/lLljaA
BEGIN:VEVENT
DESCRIPTION:Come check out the student Spring Craft Fair hosted by the CC Arts &amp\; Crafts Program! There are over 60 vendors ranging from Henna to crocheted clothes! The fair is 2nd Friday - May 6th\, from 4-7pm\n\nhttps://today.coloradocollege.edu/events/4558
DTEND:20220507T010000Z
LOCATION:Worner Fireside
DTSTART:20220506T220000Z
SUMMARY:Spring Craft Fair!
UID:3a502adf-6f46-446a-a713-8637de8ed1a9
END:VEVENT
END:VCALENDAR