BEGIN:VCALENDAR
VERSION:2.0
PRODID:ics.py - http://git.io/lLljaA
BEGIN:VEVENT
DESCRIPTION:On Thursday\, June 2\, at Colorado College\, the Youth Documentary Academy (YDA) presents the world premiere and red carpet gala celebration of 17 new short films – all addressing the important social and mental health issues youth from our region face. In partnership with teen mental health organizations\, YDA presents afternoon and evening screening blocks with professionaly moderated Q&amp\;A’s by teen mental health experts. A “connections corridor” of tables sponsored by groups like Pikes Peak Suicide Prevention Partnership\, NAMI and Inside Out Youth Services will be present in the lobby to continue the conversations.   \n\nGeneral admission tickets include access to both screening blocks at the Celeste Theatre -- an afternoon block at 2pm and an evening block at 6:30pm + candy and popcorn. VIP level tickets include both screening blocks plus a dinner/reception at 4:30pm in Studio C in the Cornerstone Arts Center to meet the filmmakers.\n\nClick Here to Register:Youth Documentary Academy This event is open to the general public.  https://www.coloradocollege.edu/newsevents/calendar/details.html?EventID=48017&amp\;booking=1SEQUENCE:0\n\nhttps://today.coloradocollege.edu/events/4559
DTEND:20220603T040000Z
LOCATION: - 
DTSTART:20220602T180000Z
SUMMARY:Youth Documentary Academy
UID:c29fe391-bb84-4cd4-b39a-3113fda6d829
END:VEVENT
END:VCALENDAR