BEGIN:VCALENDAR
VERSION:2.0
PRODID:ics.py - http://git.io/lLljaA
BEGIN:VEVENT
DESCRIPTION:CC senior music students Chidera Ikpeamarom and Eric Ponsky will present a composition mini-concert beginning at 6 p.m. Saturday\, May 21\, in Packard Hall\, featuring their original works performed by CC students and local musicians.\n\nThe CC Department of Music suggests\, but does not require\, that attendees wear a KN95 or similar filtration mask. Visit CC’s Coronavirus Updates &amp\; Resources webpage for full information about CC’s Covid-19 policies.\n\nFor parking information\, call the Music office at 719-389-6545. Visit www.coloradocollege.edu/music to learn more about the CC Music Department. This event is open to the general public.  https://www.coloradocollege.edu/newsevents/calendar/details.html?EventID=49178&amp\;booking=1SEQUENCE:0\n\nhttps://today.coloradocollege.edu/events/4561
DTEND:20220522T003000Z
LOCATION:Packard Performance Hall - 5 W. Cache La Poudre St.
DTSTART:20220522T000000Z
SUMMARY:Senior Composition Concert: Chidera Ikpeamarom and Eric Ponsky
UID:8502e215-5eae-4436-a4c3-c9909a3be074
END:VEVENT
END:VCALENDAR