BEGIN:VCALENDAR
VERSION:2.0
PRODID:ics.py - http://git.io/lLljaA
BEGIN:VEVENT
DESCRIPTION:\nThe Colorado College Gamelan Ensemble and CC Balinese Dance class students will take the stage at Packard Hall beginning at 3 p.m. Sunday\, May 15. The performance\, under the direction of I Made Lasmawan and Ni Ketut Marni\, is free and open to the public.\n \nGamelan is a traditional Indonesian instrumental ensemble that is made up primarily of percussion instruments. Lasmawan\, a native of Bali\, is an internationally acclaimed master drummer who has been providing instruction in both traditional and contemporary Indonesian music at CC for nearly 30 years. Marni\, a renowned Balinese dancer and choreographer\, has been teaching at CC for more than 20 years and her students regularly perform along with the instrumental ensemble.\n \nThe CC Department of Music suggests\, but does not require\, that attendees wear a KN95 or similar filtration mask. Visit CC’s <a href="https://www.coloradocollege.edu/other/coronavirus/index.html">Coronavirus Updates &amp\; Resources</a> webpage for full information about CC’s Covid-19 policies.\n \nFor parking information\, call the Music office at 719-389-6545. Visit <a href="http://www.coloradocollege.edu/music">www.coloradocollege.edu/music</a> to learn more about the CC Music Department.\n\nhttps://today.coloradocollege.edu/events/4563
DTEND:20220515T223000Z
LOCATION:Packard Performance Hall
DTSTART:20220515T210000Z
SUMMARY:Indonesian Music and Dance
UID:753edf97-d7b5-46b1-b9b7-d5af8fdc70cc
END:VEVENT
END:VCALENDAR