BEGIN:VCALENDAR
VERSION:2.0
PRODID:ics.py - http://git.io/lLljaA
BEGIN:VEVENT
DESCRIPTION:Calling actors and techies! Theatre Workshop is having a script reading and interest meeting of The Roommate\, a play we will be putting on in Fall 2022. \n\n\nThe Roommate by Dominica Plummer\nOne act. Steph is looking for a new roommate. She’s happy to take anyone at a time of social distancing and decreased mobility. So when the overly friendly Vida turns up on her doorstep\, Steph invites her in. Things get complicated when Steph’s boyfriend Jeff arrives unexpectedly\, despite quarantine. Soon\, he and Vida are “bonding” over probability distributions and stochastic modeling. Desperate to hold on to a new source of income\, Steph agrees to a game of Risk where winner takes all. What could possibly go wrong?\n\nhttps://today.coloradocollege.edu/events/4564
DTEND:20220510T003000Z
LOCATION:Taylor Theatre
DTSTART:20220509T230000Z
SUMMARY:THE ROOMMATE - a play reading
UID:ca89e8ed-9a78-494d-87de-f31e9a9b840a
END:VEVENT
END:VCALENDAR