BEGIN:VCALENDAR
VERSION:2.0
PRODID:ics.py - http://git.io/lLljaA
BEGIN:VEVENT
DESCRIPTION:You are invited to an information and Q&amp\;A session with Professor Edlin Monday from 2:30-4 in Gates Common Room.  We will discuss the leaked Supreme Court draft opinion in Dobbs v. Jackson Women’s Health Organization.  Some of the topics we will address are:  the meaning of the opinion itself\, its effect on the right to choose once the final opinion is released\, its implications for reproductive rights going forward\, and its broader potential impact on constitutional liberties grounded on the right to privacy such as marriage equality.  We also will consider the repercussions of the leak for the Court’s internal deliberations and the public’s perception of the Court’s integrity. \n \nIf you have any questions\, please feel free to contact Professor Edlin (dedlin@coloradocollege.edu).\n\nhttps://today.coloradocollege.edu/events/4567
DTEND:20220509T220000Z
LOCATION:Gates Common Room
DTSTART:20220509T203000Z
SUMMARY:Discussion of Leaked Supreme Court Draft
UID:4b5635e3-36f5-4d0f-9a0c-b51eb7d72291
END:VEVENT
END:VCALENDAR