BEGIN:VCALENDAR
VERSION:2.0
PRODID:ics.py - http://git.io/lLljaA
BEGIN:VEVENT
DESCRIPTION:The senior vocal recital of Aida Hasson\, mezzo-soprano\, accompanied by Daniel Brink\, piano\, has been rescheduled for 3 p.m. Thursday\, May 19 in Packard Hall\n\nThe CC Department of Music suggests\, but does not require\, that attendees wear a KN95 or similar filtration mask. Visit CC’s Coronavirus Updates &amp\; Resources webpage for full information about CC’s Covid-19 policies.\n\nFor parking information\, call the Music office at 719-389-6545. Visit www.coloradocollege.edu/music to learn more about the CC Summer Music Department. This event is open to the general public.  https://www.coloradocollege.edu/newsevents/calendar/details.html?EventID=48977&amp\;booking=1SEQUENCE:0\n\nhttps://today.coloradocollege.edu/events/4572
DTEND:20220519T220000Z
LOCATION: - 
DTSTART:20220519T210000Z
SUMMARY:Student Recital:  Aida Hasson\, mezzo-soprano
UID:38c12a3e-93b1-46ba-a5bd-4ad3724ef748
END:VEVENT
END:VCALENDAR