BEGIN:VCALENDAR
VERSION:2.0
PRODID:ics.py - http://git.io/lLljaA
BEGIN:VEVENT
DESCRIPTION:The Office of Student Health and Wellbeing in the Wellness Resource Center team is pleased to invite the candidates for the Assistant Director of the Wellness Resource Center position. As a part of the process\, the candidates have prepared a presentation and will host an open forum.\n\nWe invite you all to the WES Room (lower floor in Worner) on May 16\, 2022\, from 3:00 pm to 4:00 pm to watch the presentation\, ask questions and get to know the candidate.\n\nSincerely\,\n\n- The Wellness Resouce Center Team\n\nhttps://today.coloradocollege.edu/events/4574
DTEND:20220516T220000Z
LOCATION:WES Room
DTSTART:20220516T210000Z
SUMMARY:Assistant Director of the Wellness Resource Center: Candidate Presentation
UID:19d2f54d-6752-4b60-a3e8-cf2e441fe962
END:VEVENT
END:VCALENDAR