BEGIN:VCALENDAR
VERSION:2.0
PRODID:ics.py - http://git.io/lLljaA
BEGIN:VEVENT
DESCRIPTION:Join us tomorrow for our weekly hourly discussion at Shove Council and the final one of the 2021-2022 school year. This week we will be a space to appreciate the senior class. In our discussion we hope to engage with the theme of experiences\, wondering if a person more than what they experience in so say their time in college.\n\nexperiences?\n\n\nWe will be meeting in sacred grounds at 12:15. Light refreshments of hummus and pita chips will be provided. Please bring a mask. \n\nAs always\, feel free to come for however long you can. The spiral fellows hope to see you and your friends there!\n\nhttps://today.coloradocollege.edu/events/4575
DTEND:20220511T191500Z
LOCATION:Sacred Grounds
DTSTART:20220511T181500Z
SUMMARY:FINAL SHOVE COUNCIL OF THE YEAR TOMORROW 5/10
UID:0c5b472b-6e21-4bda-8042-7240988af28f
END:VEVENT
END:VCALENDAR