BEGIN:VCALENDAR
VERSION:2.0
PRODID:ics.py - http://git.io/lLljaA
BEGIN:VEVENT
DESCRIPTION:Please join us for this year's induction ceremony into this mathematics honor society\, including a talk by Dr. Marlow Anderson!\n\n\n\nZoom info:\n<a href="https://coloradocollege.zoom.us/j/91005804543?pwd=aDlHMTEzUjN6YmIwQVB1R1lCZW4rdz09">https://coloradocollege.zoom.us/j/91005804543?pwd=aDlHMTEzUjN6YmIwQVB1R1lCZW4rdz09</a>\nMeeting ID: 910 0580 4543  \nPasscode: 606607\n\nhttps://today.coloradocollege.edu/events/4576
DTEND:20220513T220000Z
LOCATION:TSC 122\, or <a href="https://coloradocollege.zoom.us/j/91005804543?pwd=aDlHMTEzUjN6YmIwQVB1R1lCZW4rdz09">Zoom</a>
DTSTART:20220513T210000Z
SUMMARY:Pi Mu Epsilon Induction Ceremony and Talk
UID:44e21be5-fc1a-4364-b493-aea8da3629e5
END:VEVENT
END:VCALENDAR