BEGIN:VCALENDAR
VERSION:2.0
PRODID:ics.py - http://git.io/lLljaA
BEGIN:VEVENT
DESCRIPTION:Come to the Ritt and compete to win prizes! All levels of climbers welcome. If climbing isnt your thing\, come and see how high up you can get standing on crates.\n\nhttps://today.coloradocollege.edu/events/4577
DTEND:20220514T010000Z
LOCATION:El Pomar Auxiliary Gym
DTSTART:20220513T220000Z
SUMMARY:Psychedelic and Crate Stacking Competition at the Ritt
UID:360fa932-d4ea-40b2-89c5-d880f53d4754
END:VEVENT
END:VCALENDAR