BEGIN:VCALENDAR
VERSION:2.0
PRODID:ics.py - http://git.io/lLljaA
BEGIN:VEVENT
DESCRIPTION:Baccalaureate is a centuries-old graduation tradition that is held in Robson Arena at Colorado College during <a href="https://www.coloradocollege.edu/commencement/" title="Commencement">Commencement Weekend</a>.  The baccalaureate ceremony offers a quiet\, intimate opportunity to pause and reflect on the rite of passage that is graduation\, hear from a faculty member nominated by the Class of 2022\, and enjoy students' talents.\n\nRemember\, you can find all Commencement details including the full schedule\, speaker bios\, tickets\, parking\, and accessibility information at <a href="https://www.coloradocollege.edu/commencement">coloradocollege.edu/commencement</a>\n\nhttps://today.coloradocollege.edu/events/4581
DTEND:20220521T220000Z
LOCATION:Robson Arena
DTSTART:20220521T210000Z
SUMMARY:Baccalaureate 
UID:d9995437-6884-4ce4-aba2-f22be2c355cc
END:VEVENT
END:VCALENDAR