BEGIN:VCALENDAR
VERSION:2.0
PRODID:ics.py - http://git.io/lLljaA
BEGIN:VEVENT
DESCRIPTION:Colorado College's Bike to Work Day! This event is open to the general public.  https://www.coloradocollege.edu/newsevents/calendar/details.html?EventID=49193&amp\;booking=1SEQUENCE:0\n\nhttps://today.coloradocollege.edu/events/4585
DTEND:20220622T150000Z
LOCATION:Worner Quad - north of Worner Campus Center\, 902 N. Cascade Ave.
DTSTART:20220622T120000Z
SUMMARY:Colorado College's Bike to Work Day!
UID:42da0f24-c5bc-4e6b-a799-64f610aa9703
END:VEVENT
END:VCALENDAR