BEGIN:VCALENDAR
VERSION:2.0
PRODID:ics.py - http://git.io/lLljaA
BEGIN:VEVENT
DESCRIPTION:On Thursdays\, there will be a weekly food pantry from 12pm-1:30pm in the Worner basement (the old mailroom). Students are invited to come to get some dried goods\, fresh produce\, and snacks for the week. Brought to you by Campus Activities with support from CCSGA. Students must sign up using <a href="https://www.signupgenius.com/go/10c0c4ba5a62ca6f8c07-2022">SignUpGenius</a> and arrive at the correct time. This will be a weekly initiative moving forward brought to you by Campus Activities and CCSGA.\n\nQuestions? Email <a href="mailto:awerkmeister@coloradocollege.edu">awerkmeister@coloradocollege.edu</a> \n\nThis is a student activity. This event is not open to the general public. <a href="https://www.coloradocollege.edu/newsevents/calendar/details.html?EventID=48295&amp\;booking=3SEQUENCE:0">https://www.coloradocollege.edu/newsevents/calendar/details.html?EventID=48295&amp\;booking=3SEQUENCE:0</a>\n\nhttps://today.coloradocollege.edu/events/4589
DTEND:20220616T191100Z
LOCATION:Worner Basement
DTSTART:20220616T180000Z
SUMMARY:CC Food Pantry
UID:204077fb-204e-4ff0-84fd-9b91b936d081
END:VEVENT
END:VCALENDAR