BEGIN:VCALENDAR
VERSION:2.0
PRODID:ics.py - http://git.io/lLljaA
BEGIN:VEVENT
DESCRIPTION:\n\nhttps://today.coloradocollege.edu/events/4600
DTEND:20220607T193000Z
LOCATION:Armstrong Great Hall
DTSTART:20220607T180000Z
SUMMARY:Farewell to Dale Willson
UID:66736570-311a-4567-bb68-a44deb4b289c
END:VEVENT
END:VCALENDAR