BEGIN:VCALENDAR
VERSION:2.0
PRODID:ics.py - http://git.io/lLljaA
BEGIN:VEVENT
DESCRIPTION:The Colorado College Summer Music Festival is an annual event held on the CC campus\, connecting pre-professional musicians with preeminent performance faculty. The Festival will present more than 20 events during its 38th season\, scheduled for June 5-24. \n\nThe first concert on the Festival schedule this year is “An Evening of Song in Honor of Peggy Shivers\,” beginning at 7:30 p.m. Tuesday\, June 7\, in Packard Hall. Thefree ticketed event features the baritone "velvet voice" of opera star Brian Major. \n\nShivers\, along with her late husband\, Clarence Shivers\, has touched countless lives in Colorado Springs — especially in the arts community. Concert goers should consider getting their free tickets in advance\, as a full house is expected for a concert honoring the local musical legend and philanthropist.\n\nFor tickets\, the full schedule\, or more information about the CC Summer Music Festival\, visit www.coloradocollege.edu/musicfestival\, or call (719) 389-6552. This event is open to the general public.  https://www.coloradocollege.edu/newsevents/calendar/details.html?EventID=49475&amp\;booking=1SEQUENCE:0\n\nhttps://today.coloradocollege.edu/events/4601
DTEND:20220608T030000Z
LOCATION:Packard Performance Hall - 5 W. Cache La Poudre St.
DTSTART:20220608T013000Z
SUMMARY:Summer Music Festival: An Evening of Song in Honor of Peggy Shivers
UID:2cfea7da-4ca6-40d6-9f03-ea44875ada1e
END:VEVENT
END:VCALENDAR