BEGIN:VCALENDAR
VERSION:2.0
PRODID:ics.py - http://git.io/lLljaA
BEGIN:VEVENT
DESCRIPTION:The Colorado College Summer Music Festival presents its fan-favorite Outdoor Festival Celebration at 7 p.m. Saturday\, June 11\, on the CC Campus Tava Quad\, featuring a Festival Orchestra Concert conducted by Scott Yoo\, followed by the Pink Hawks\, a Denver-based Xicanxbeat orchestra.\n\nAdmission to the outdoor concert is free. \n\nThe Festival will offer a free shuttle to the concert from Hillside Hub\, located at 1090 S. Institute St.\, at 6:30 p.m. following the grand opening celebration of its neighborhood food center\, which begins at 3 p.m.\n\nFor tickets\, the full schedule\, or more information about the CC Summer Music Festival\, visit www.coloradocollege.edu/musicfestival\, or call (719) 389-6552. This event is open to the general public.  https://www.coloradocollege.edu/newsevents/calendar/details.html?EventID=49477&amp\;booking=1SEQUENCE:0\n\nhttps://today.coloradocollege.edu/events/4603
DTEND:20220612T030000Z
LOCATION:Tava Quad - north of Armstrong Hall\, 14 E. Cache La Poudre St.
DTSTART:20220612T010000Z
SUMMARY:Summer Music Festival: Outdoor Festival Celebration
UID:da7498c6-7141-44a7-b2ff-5203b03e2df5
END:VEVENT
END:VCALENDAR