BEGIN:VCALENDAR
VERSION:2.0
PRODID:ics.py - http://git.io/lLljaA
BEGIN:VEVENT
DESCRIPTION:The Colorado College Summer Music Festival will present its popular Children’s Orchestra Concert at 9 a.m. and 11 a.m. Thursday\, June 16\, in Celeste Theatre in the Cornerstone Arts Center.\n\nThe free ticketed event features Camille Saint-Saëns’ famous “The Carnival of the Animals\,” with narration by Virginia Barron\, Festival associate director\; dancers by the Ormao Company Student Repertory\; and drawings by students at the Bemis School of Art.\n\nFor tickets\, the full schedule\, or more information about the CC Summer Music Festival\, visit www.coloradocollege.edu/musicfestival\, or call (719) 389-6552. This event is open to the general public.  https://www.coloradocollege.edu/newsevents/calendar/details.html?EventID=49482&amp\;booking=1SEQUENCE:0\n\nhttps://today.coloradocollege.edu/events/4608
DTEND:20220616T160000Z
LOCATION:Richard F. Celeste Theatre - Edith Kinney Gaylord Cornerstone Arts Center\, 825 N. Cascade Ave.
DTSTART:20220616T150000Z
SUMMARY:Summer Music Festival: Children's Orchestra Concert
UID:a92bea03-73bc-4e01-80af-19019dceaa63
END:VEVENT
END:VCALENDAR