BEGIN:VCALENDAR
VERSION:2.0
PRODID:ics.py - http://git.io/lLljaA
BEGIN:VEVENT
DESCRIPTION:The Colorado College Summer Music Festival is an annual event held on the CC campus\, connecting pre-professional musicians with preeminent performance faculty. The Festival will present more than 20 events during its 38th season\, scheduled for June 5-24. \n\nThe Festival presents two free brief recitals featuring performance faculty beginning at 6:15 p.m. in Packard Hall on June 16 and 23. These free concerts are held prior to ticketed Festival Artists Concerts in the same venue.\n\nFor tickets\, the full schedule\, or more information about the CC Summer Music Festival\, visit www.coloradocollege.edu/musicfestival\, or call (719) 389-6552. This event is open to the general public.  https://www.coloradocollege.edu/newsevents/calendar/details.html?EventID=49492&amp\;booking=1SEQUENCE:0\n\nhttps://today.coloradocollege.edu/events/4614
DTEND:20220624T011500Z
LOCATION:Packard Performance Hall - 5 W. Cache La Poudre St.
DTSTART:20220624T001500Z
SUMMARY:Summer Music Festival: Festival Artists Pre-Concert Recital ''Alla Breve''
UID:fe7b362f-2835-4e89-a92a-6b65d4b1d7a6
END:VEVENT
END:VCALENDAR