BEGIN:VCALENDAR
VERSION:2.0
PRODID:ics.py - http://git.io/lLljaA
BEGIN:VEVENT
DESCRIPTION:Join us in celebrating the opening of the exhibition <a href="https://fac.coloradocollege.edu/exhibits/where-the-saint-lives/">Where the Saint Lives</a> with a FREE Matachines and ballet folklórico performance by <a href="https://www.gfdelpueblo.org/">Grupo Folklórico del Pueblo</a>! The performance begins in FAC lobby and moves to Music Room and will last about 30 minutes.\n\nWhere the Saint Lives is an exhibition that examines works produced in the Southwestern United States and Mexico spanning from the 1800s to the early 2000s that make visible the link between cultural identity and spirituality.\nThe museum will be open from 5-8pm with  FREE admission for First Friday\n\nhttps://today.coloradocollege.edu/events/4619
DTEND:20220604T003000Z
LOCATION:Fine Arts Center
DTSTART:20220603T233000Z
SUMMARY:WHERE THE SAINT LIVES OPENING CELEBRATION
UID:1f6a2fba-5a70-4b30-9246-7dfa6abf377f
END:VEVENT
END:VCALENDAR