BEGIN:VCALENDAR
VERSION:2.0
PRODID:ics.py - http://git.io/lLljaA
BEGIN:VEVENT
DESCRIPTION:You are invited to join the Film and Media Studies Program in welcoming Director and Visiting Faculty Member Maria Govan as she shares this incredible film with our students\, employees\, and members of the public. This screening will be free of charge and we encourage you to bring friends and family to share in this event.\n\nFrom IMDb:\n\nDetermined to reconcile with the mother who abandoned her when she was just a toddler\, a Bahamian adolescent boards a local mail boat and sets sail for Nassau in director Maria Govan's intimate family drama. Rain has lived a sheltered life on Ragged Island\, but now the death of her grandmother has forced her to get out and explore the world on her own. Upon arriving in Nassau the young girl is overwhelmed by the sights of the big city\, and soon finds her idealistic illusions shattered when she witnesses firsthand just how deviant and destructive her mother's lifestyle has truly become. Stranded in a an unfamiliar environment that fills her with dread and confronted by a mother she has never known\, Rain searches deep within herself to summon the strength needed to find her own place in the world.\n\n—Jason Buchanan This event is open to the general public.  https://www.coloradocollege.edu/newsevents/calendar/details.html?EventID=49469&amp\;booking=1SEQUENCE:0\n\nhttps://today.coloradocollege.edu/events/4620
DTEND:20220610T030000Z
LOCATION:Cornerstone 131 (Screening Room) - Edith Kinney Gaylord Cornerstone Arts Center\, 825 N. Cascade Ave.
DTSTART:20220610T010000Z
SUMMARY:Film Screenng: ''Rain'' (2008) with Director Maria Govan
UID:3802bd24-9c38-4552-9d17-b9ec0caa57bd
END:VEVENT
END:VCALENDAR