BEGIN:VCALENDAR
VERSION:2.0
PRODID:ics.py - http://git.io/lLljaA
BEGIN:VEVENT
DESCRIPTION:Join us at the FAC this Saturday June 11 from 11am-3pm for a day of hands-on printmaking activities and in gallery experiences for the whole family in celebration of the exhbtion Robert Blackburn and Modern American Printmaking. The event is free and open to the public\, find out more info <a href="https://fac.coloradocollege.edu/event/robert-blackburn-print-day/">here</a>.\n\nBring your own T-shirt\, fabric tote\, sweatshirt\, or surface you might want to screen print on with Ladyfingers Letterpress and CC Mobile Arts! Some T-shirts\, bags\, and other items will be available for purchase\, and free paper will be provided.\n\nThere will be many more types of hand's on printmaking activties that will be facilated by Bemis School of Art and The Press at CC.\n\nAt 2pm CC's Jean Gumpper and Aaron Cohick will be giving a gallery talk in the exhibtion.\n\n\nhttps://today.coloradocollege.edu/events/4621
DTEND:20220611T210000Z
LOCATION:Fine Arts Center
DTSTART:20220611T170000Z
SUMMARY:Print Day at the FAC
UID:84e24fee-4b2b-4127-930a-63856c463612
END:VEVENT
END:VCALENDAR