BEGIN:VCALENDAR
VERSION:2.0
PRODID:ics.py - http://git.io/lLljaA
BEGIN:VEVENT
DESCRIPTION:Tomás Doncker &amp\; The True Groove All-Stars present Endangered\, a live music\, multi-sensory installation performance steeped in 21st Century Psychedelic Soul. Endangered premieres at the Colorado Springs Fine Arts Center on June 17 at 6pm\, as an intimate site-specific performance in the <a href="https://fac.coloradocollege.edu/exhibits/floyd-d-tunson-hearts-and-minds/">Floyd D. Tunson: Hearts and Minds </a>exhibition. On June 18 at 6pm Endangered moves to Armstrong Hall for a full concert presentation.\n\nInspired by the Afro-Futuristic and politically charged artworks of Colorado’s own Floyd D. Tunson and powered by lyrics from Pulitzer Prize winning poet Yusef Komunyakaa\, Tomás Doncker and The True Groove All-Stars chart a sonic journey to freedom\, a modern day revolution of the mind.\n\nFree for CC students\, staff\, and faculty\; students and educators. For more information\, please visit https://fac.coloradocollege.edu/event/endangered/\n\nhttps://today.coloradocollege.edu/events/4623
DTEND:20220619T010000Z
LOCATION:Kathryn Mohrman Theatre
DTSTART:20220619T000000Z
SUMMARY:FREE for Gold Card Holders\, Endangered\, a multi-sensory performance at the Fine Arts Center
UID:1813381a-94f5-4bd8-bc5d-c3680dbd57ae
END:VEVENT
END:VCALENDAR