BEGIN:VCALENDAR
VERSION:2.0
PRODID:ics.py - http://git.io/lLljaA
BEGIN:VEVENT
DESCRIPTION:Tomás Doncker &amp\; The True Groove All-Stars present Endangered\, a live music\, multi-sensory installation performance steeped in 21st Century Psychedelic Soul. Endangered premieres at the Colorado Springs Fine Arts Center on June 17\, as an intimate site-specific performance in the Floyd D. Tunson: Hearts and Minds exhibition. On June 18 Endangered moves to Armstrong Hall for a full concert presentation.\n\nInspired by the Afro-Futuristic and politically charged artworks of Colorado’s own Floyd D. Tunson and powered by lyrics from Pulitzer Prize winning poet Yusef Komunyakaa\, Tomás Doncker and The True Groove All-Stars chart a sonic journey to freedom\, a modern day revolution of the mind.\n\n\n\n\n\nTomás Doncker &amp\; The True Groove All-Stars present Endangered\, a live music\, multi-sensory installation performance steeped in 21st Century Psychedelic Soul. Endangered premieres at the Colorado Springs Fine Arts Center on June 17\, as an intimate site-specific performance in the Floyd D. Tunson: Hearts and Minds exhibition. On June 18 Endangered moves to Armstrong Hall for a full concert presentation.\n\nInspired by the Afro-Futuristic and politically charged artworks of Colorado’s own Floyd D. Tunson and powered by lyrics from Pulitzer Prize winning poet Yusef Komunyakaa\, Tomás Doncker and The True Groove All-Stars chart a sonic journey to freedom\, a modern day revolution of the mind.\n\nPURCHASE TICKETS TO FRIDAY\, JUNE 17 PERFORMANCE This event is open to the general public.  https://www.coloradocollege.edu/newsevents/calendar/details.html?EventID=49554&amp\;booking=1SEQUENCE:0\n\nhttps://today.coloradocollege.edu/events/4625
DTEND:20220618T023000Z
LOCATION:FAC El Pomar Gallery - inside the Fine Arts Center\, 30 W. Dale St.
DTSTART:20220618T000000Z
SUMMARY:Dance Performance\, ''Endangered''
UID:e3afb512-7762-4e65-a527-716eabbb7004
END:VEVENT
END:VCALENDAR